BEGIN:VCALENDAR
VERSION:2.0
PRODID:-//Moe Swidan - ECPv6.15.20//NONSGML v1.0//EN
CALSCALE:GREGORIAN
METHOD:PUBLISH
X-ORIGINAL-URL:https://moeswidan.com
X-WR-CALDESC:Events for Moe Swidan
REFRESH-INTERVAL;VALUE=DURATION:PT1H
X-Robots-Tag:noindex
X-PUBLISHED-TTL:PT1H
BEGIN:VTIMEZONE
TZID:Asia/Dubai
BEGIN:STANDARD
TZOFFSETFROM:+0400
TZOFFSETTO:+0400
TZNAME:+04
DTSTART:20240101T000000
END:STANDARD
END:VTIMEZONE
BEGIN:VEVENT
DTSTART;TZID=Asia/Dubai:20250529T183000
DTEND;TZID=Asia/Dubai:20250529T203000
DTSTAMP:20260420T144501
CREATED:20250428T070044Z
LAST-MODIFIED:20250528T130106Z
UID:1199-1748543400-1748550600@moeswidan.com
SUMMARY:own your journey – part 1: mindset shift
DESCRIPTION:[vc_row type=”full_width_background” full_screen_row_position=”middle” column_margin=”default” column_direction=”default” column_direction_tablet=”default” column_direction_phone=”default” bg_image=”1047″ bg_position=”center center” background_image_loading=”default” bg_repeat=”no-repeat” scene_position=”center” top_padding=”12%” constrain_group_1=”yes” bottom_padding=”12%” text_color=”dark” text_align=”left” row_border_radius=”none” row_border_radius_applies=”bg” overflow=”visible” overlay_strength=”0.3″ gradient_direction=”left_to_right” shape_divider_position=”bottom” bg_image_animation=”none” gradient_type=”default” shape_type=””][vc_column column_padding=”no-extra-padding” column_padding_tablet=”inherit” column_padding_phone=”inherit” column_padding_position=”all” column_element_direction_desktop=”default” column_element_spacing=”default” desktop_text_alignment=”default” tablet_text_alignment=”default” phone_text_alignment=”default” background_color_opacity=”1″ background_hover_color_opacity=”1″ column_backdrop_filter=”none” column_shadow=”none” column_border_radius=”none” column_link_target=”_self” column_position=”default” gradient_direction=”left_to_right” overlay_strength=”0.3″ width=”1/1″ tablet_width_inherit=”default” animation_type=”default” bg_image_animation=”none” border_type=”simple” column_border_width=”none” column_border_style=”solid”][/vc_column][/vc_row][vc_row type=”in_container” full_screen_row_position=”middle” column_margin=”default” column_direction=”default” column_direction_tablet=”default” column_direction_phone=”default” scene_position=”center” top_padding=”3%” constrain_group_1=”yes” bottom_padding=”3%” text_color=”dark” text_align=”left” row_border_radius=”none” row_border_radius_applies=”bg” overflow=”visible” overlay_strength=”0.3″ gradient_direction=”left_to_right” shape_divider_position=”bottom” bg_image_animation=”none” gradient_type=”default” shape_type=””][vc_column column_padding=”no-extra-padding” column_padding_tablet=”inherit” column_padding_phone=”inherit” column_padding_position=”all” column_element_direction_desktop=”default” column_element_spacing=”default” desktop_text_alignment=”default” tablet_text_alignment=”default” phone_text_alignment=”default” background_color_opacity=”1″ background_hover_color_opacity=”1″ column_backdrop_filter=”none” column_shadow=”none” column_border_radius=”none” column_link_target=”_self” column_position=”default” gradient_direction=”left_to_right” overlay_strength=”0.3″ width=”1/1″ tablet_width_inherit=”default” animation_type=”default” bg_image_animation=”none” border_type=”simple” column_border_width=”none” column_border_style=”solid”][vc_column_text css=”” text_direction=”default”]do you ever feel like life is just happening to you? like you’re being pulled from one situation to another\, hoping for the best but never really feeling in control?\nbut what if there was another way?\nwhat if you could shift the way you think\, see\, and act\, so that instead of reacting to life\, you start shaping it?[/vc_column_text] own your journey is a three-part series designed to help you take back control\, step into clarity\, and move forward with purpose. \n\neach session stands on its own. join any part independently\, there’s no requirement to attend all three.\ntogether\, the three sessions create a deeper transformation. Allowing for a natural progression\, and empowering you with more tools and insights to get you to where you want to be.\n\nthe journey at a glance:\npart 1 | mindset shift → redefine how you think\, see\, and act so you can take ownership of your choices. \npart 2 | success\, on your terms → cut through the noise of external expectations and define what truly matters. \npart 3 | building your future → bridge the gap between where you are and where you want to be by creating the foundation that turns vision into reality.  \npart 1: mindset shift\nthis interactive\, thought-provoking session isn’t about surface-level motivation—it’s about real change. you’ll have space to think out loud\, challenge old patterns\, and shift the way you see yourself and your choices. \n\nunlock your growth potential – discover the power within you to break limits\, expand possibilities\, and step into your highest potential.\nredefine your personal power – move from feeling stuck to stepping into action by making conscious\, empowering choices that move you forward.\nchange the way you see the world – understand how your mind filters reality and how to reframe your perspective to unlock new opportunities.\n\nthis isn’t just another workshop. it’s a chance to step away from the noise\, gain new perspectives\, and uncover what’s been holding you back\, so you can move forward with clarity and intention.  📍 location: heal hub dubai\n🔗 open in maps \n\n📅 date & time: May 29th\, 6:30 pm – 8:30 pm (arrive by 6:00 pm)\n🎟  price: 250 AED per person\n🚨 seats available: only 20 spots \nif you’ve been waiting for a shift\, this is it. don’t sit on the fence—take action. \nclaim your spot now – limited seats available! \nnote: tickets are non-refundable [/vc_column][/vc_row]
URL:https://moeswidan.com/events/own-your-journey-part-1-mindset-shift-may/
LOCATION:Heal Hub\, 56C8+46 Dubai - United Arab Emirates
ATTACH;FMTTYPE=image/jpeg:https://moeswidan.com/wp-content/uploads/2025/02/2-24.jpg
ORGANIZER;CN="Moe Swidan":MAILTO:ms@moeswidan.com
END:VEVENT
BEGIN:VEVENT
DTSTART;TZID=Asia/Dubai:20250424T183000
DTEND;TZID=Asia/Dubai:20250424T203000
DTSTAMP:20260420T144501
CREATED:20250219T212954Z
LAST-MODIFIED:20250317T120028Z
UID:1009-1745519400-1745526600@moeswidan.com
SUMMARY:own your journey – part 1: mindset shift
DESCRIPTION:[vc_row type=”full_width_background” full_screen_row_position=”middle” column_margin=”default” column_direction=”default” column_direction_tablet=”default” column_direction_phone=”default” bg_image=”1047″ bg_position=”center center” background_image_loading=”default” bg_repeat=”no-repeat” scene_position=”center” top_padding=”12%” constrain_group_1=”yes” bottom_padding=”12%” text_color=”dark” text_align=”left” row_border_radius=”none” row_border_radius_applies=”bg” overflow=”visible” overlay_strength=”0.3″ gradient_direction=”left_to_right” shape_divider_position=”bottom” bg_image_animation=”none” gradient_type=”default” shape_type=””][vc_column column_padding=”no-extra-padding” column_padding_tablet=”inherit” column_padding_phone=”inherit” column_padding_position=”all” column_element_direction_desktop=”default” column_element_spacing=”default” desktop_text_alignment=”default” tablet_text_alignment=”default” phone_text_alignment=”default” background_color_opacity=”1″ background_hover_color_opacity=”1″ column_backdrop_filter=”none” column_shadow=”none” column_border_radius=”none” column_link_target=”_self” column_position=”default” gradient_direction=”left_to_right” overlay_strength=”0.3″ width=”1/1″ tablet_width_inherit=”default” animation_type=”default” bg_image_animation=”none” border_type=”simple” column_border_width=”none” column_border_style=”solid”][/vc_column][/vc_row][vc_row type=”in_container” full_screen_row_position=”middle” column_margin=”default” column_direction=”default” column_direction_tablet=”default” column_direction_phone=”default” scene_position=”center” top_padding=”3%” constrain_group_1=”yes” bottom_padding=”3%” text_color=”dark” text_align=”left” row_border_radius=”none” row_border_radius_applies=”bg” overflow=”visible” overlay_strength=”0.3″ gradient_direction=”left_to_right” shape_divider_position=”bottom” bg_image_animation=”none” gradient_type=”default” shape_type=””][vc_column column_padding=”no-extra-padding” column_padding_tablet=”inherit” column_padding_phone=”inherit” column_padding_position=”all” column_element_direction_desktop=”default” column_element_spacing=”default” desktop_text_alignment=”default” tablet_text_alignment=”default” phone_text_alignment=”default” background_color_opacity=”1″ background_hover_color_opacity=”1″ column_backdrop_filter=”none” column_shadow=”none” column_border_radius=”none” column_link_target=”_self” column_position=”default” gradient_direction=”left_to_right” overlay_strength=”0.3″ width=”1/1″ tablet_width_inherit=”default” animation_type=”default” bg_image_animation=”none” border_type=”simple” column_border_width=”none” column_border_style=”solid”][vc_column_text css=”” text_direction=”default”]do you ever feel like life is just happening to you? like you’re being pulled from one situation to another\, hoping for the best but never really feeling in control?\nbut what if there was another way?\nwhat if you could shift the way you think\, see\, and act\, so that instead of reacting to life\, you start shaping it?[/vc_column_text] own your journey is a three-part series designed to help you take back control\, step into clarity\, and move forward with purpose. \n\neach session stands on its own. join any part independently\, there’s no requirement to attend all three.\ntogether\, the three sessions create a deeper transformation. Allowing for a natural progression\, and empowering you with more tools and insights to get you to where you want to be.\n\nthe journey at a glance:\npart 1 | mindset shift → redefine how you think\, see\, and act so you can take ownership of your choices. \npart 2 | success\, on your terms → cut through the noise of external expectations and define what truly matters. \npart 3 | building your future → bridge the gap between where you are and where you want to be by creating the foundation that turns vision into reality.  \npart 1: mindset shift\nthis interactive\, thought-provoking session isn’t about surface-level motivation—it’s about real change. you’ll have space to think out loud\, challenge old patterns\, and shift the way you see yourself and your choices. \n\nunlock your growth potential – discover the power within you to break limits\, expand possibilities\, and step into your highest potential.\nredefine your personal power – move from feeling stuck to stepping into action by making conscious\, empowering choices that move you forward.\nchange the way you see the world – understand how your mind filters reality and how to reframe your perspective to unlock new opportunities.\n\nthis isn’t just another workshop. it’s a chance to step away from the noise\, gain new perspectives\, and uncover what’s been holding you back\, so you can move forward with clarity and intention.  📍 location: heal hub dubai\n🔗 open in maps \n\n📅 date & time: April 24th\, 6:30 pm – 8:30 pm (arrive by 6:00 pm)\n🎟  price: 250 AED per person\n🚨 seats available: only 18 spots \nif you’ve been waiting for a shift\, this is it. don’t sit on the fence—take action. \nclaim your spot now – limited seats available! \nnote: tickets are non-refundable [/vc_column][/vc_row]
URL:https://moeswidan.com/events/own-your-journey-part-1-mindset-shift/
LOCATION:Heal Hub\, 56C8+46 Dubai - United Arab Emirates
ATTACH;FMTTYPE=image/jpeg:https://moeswidan.com/wp-content/uploads/2025/02/2-24.jpg
ORGANIZER;CN="Moe Swidan":MAILTO:ms@moeswidan.com
END:VEVENT
END:VCALENDAR